BEGIN:VCALENDAR
VERSION:2.0
PRODID:-//Tukios.com/
BEGIN:VEVENT
UID:14311e4d-c63e-48ff-8203-6728568b0c3c@www.kinkadefunerals.com
DTSTAMP:20260423T085348Z
DTSTART:20260502T200000Z
DTEND:20260502T210000Z
SUMMARY:Celebration of Life
DESCRIPTION:
URL:https://www.kinkadefunerals.com/obituaries/jerry-walker
LOCATION:Mt. Pisgah Cemetery 804 South Emerson Avenue  Gillette WY 82716
GEO:38.7487138;-105.1942979
END:VEVENT
END:VCALENDAR