BEGIN:VCALENDAR
VERSION:2.0
PRODID:-//Tukios.com/
BEGIN:VEVENT
UID:cf830e50-e893-4245-9959-55bba4843ab5@www.kinkadefunerals.com
DTSTAMP:20260424T225445Z
DTSTART:20260620T200000Z
DTEND:20260620T220000Z
SUMMARY:Celebration of Life
DESCRIPTION:
URL:https://www.kinkadefunerals.com/obituaries/richard-archuleta
LOCATION: 101 Pine St  Piedmont SD 57769
GEO:44.2299349;-103.3863675
END:VEVENT
END:VCALENDAR